BEGIN:VCALENDAR
VERSION:2.0
PRODID:icalendar-ruby
CALSCALE:GREGORIAN
METHOD:PUBLISH
BEGIN:VEVENT
DTSTAMP:20260423T183346Z
UID:159-527809@ascentchurch.ca
DTSTART:20260527T220000Z
DTEND:20260528T010000Z
CLASS:PUBLIC
CREATED:20260423T122743
DESCRIPTION:
LAST-MODIFIED:20260423T122743
LOCATION:
SUMMARY:Young Adults Bible Study
URL;VALUE=URI:https://ascentchurch.ca/events/young-adults-bible-study/2026-
 05-27
ATTACH;FILENAME=AscentYA.png;FMTTYPE=image/png:https://dq5pwpg1q8ru0.cloudf
 ront.net/2026/04/23/16/27/43/c545a987-b428-4e45-a75d-1ba4ec9e69f9/AscentYA
 .png
END:VEVENT
END:VCALENDAR
